BEGIN:VCALENDAR
VERSION:2.0
PRODID:-//Fairview Beach - ECPv6.15.3//NONSGML v1.0//EN
CALSCALE:GREGORIAN
METHOD:PUBLISH
X-WR-CALNAME:Fairview Beach
X-ORIGINAL-URL:https://old.fairviewbeach.org
X-WR-CALDESC:Events for Fairview Beach
REFRESH-INTERVAL;VALUE=DURATION:PT1H
X-Robots-Tag:noindex
X-PUBLISHED-TTL:PT1H
BEGIN:VTIMEZONE
TZID:America/New_York
BEGIN:DAYLIGHT
TZOFFSETFROM:-0500
TZOFFSETTO:-0400
TZNAME:EDT
DTSTART:20230312T070000
END:DAYLIGHT
BEGIN:STANDARD
TZOFFSETFROM:-0400
TZOFFSETTO:-0500
TZNAME:EST
DTSTART:20231105T060000
END:STANDARD
END:VTIMEZONE
BEGIN:VEVENT
DTSTART;TZID=America/New_York:20230318T170000
DTEND;TZID=America/New_York:20230318T210000
DTSTAMP:20260423T193133
CREATED:20230309T191743Z
LAST-MODIFIED:20230309T193251Z
UID:4038-1679158800-1679173200@old.fairviewbeach.org
SUMMARY:Winter Beach Party at Tim's II
DESCRIPTION:
URL:https://old.fairviewbeach.org/calendar/winter-beach-party-at-tims-ii/
LOCATION:Tim’s II at Fairview
CATEGORIES:Community Event
END:VEVENT
END:VCALENDAR